Package: gDRcore Version: 1.5.4 Command: /Library/Frameworks/R.framework/Resources/bin/R CMD INSTALL gDRcore StartedAt: 2025-02-09 15:34:32 -0500 (Sun, 09 Feb 2025) EndedAt: 2025-02-09 15:34:53 -0500 (Sun, 09 Feb 2025) EllapsedTime: 20.7 seconds RetCode: 0 Status: OK