Package: gDRcore Version: 1.5.4 Command: rm -rf gDRcore.buildbin-libdir && mkdir gDRcore.buildbin-libdir && E:\biocbuild\bbs-3.21-bioc\R\bin\R.exe CMD INSTALL --build --library=gDRcore.buildbin-libdir gDRcore_1.5.4.tar.gz StartedAt: 2025-02-05 07:58:49 -0500 (Wed, 05 Feb 2025) EndedAt: 2025-02-05 07:59:31 -0500 (Wed, 05 Feb 2025) EllapsedTime: 42.4 seconds RetCode: 0 Status: OK PackageFile: gDRcore_1.5.4.zip PackageFileSize: 1.345 MiB