Package: gDRcore Version: 1.5.4 Command: E:\biocbuild\bbs-3.21-bioc\R\bin\R.exe CMD check --no-multiarch --install=check:gDRcore.install-out.txt --library=E:\biocbuild\bbs-3.21-bioc\R\library --no-vignettes --timings gDRcore_1.5.4.tar.gz StartedAt: 2025-02-10 01:17:13 -0500 (Mon, 10 Feb 2025) EndedAt: 2025-02-10 01:24:10 -0500 (Mon, 10 Feb 2025) EllapsedTime: 417.5 seconds RetCode: 0 Status: OK CheckDir: gDRcore.Rcheck Warnings: 0