Package: gDRimport Version: 1.5.6 Maintainer: Arkadiusz Gladki MaintainerEmail: gladki.arkadiusz at gmail.com git_url: https://git.bioconductor.org/packages/gDRimport git_branch: devel git_last_commit: 6e6a8d1 git_last_commit_date: 2025-02-04 09:46:40 -0500 (Tue, 04 Feb 2025)