Package: gDRimport Version: 1.5.6 Command: rm -rf gDRimport.buildbin-libdir && mkdir gDRimport.buildbin-libdir && /Users/biocbuild/BBS/utils/build-universal.sh gDRimport_1.5.6.tar.gz /Library/Frameworks/R.framework/Resources/bin/R gDRimport.buildbin-libdir StartedAt: 2025-02-04 22:17:03 -0500 (Tue, 04 Feb 2025) EndedAt: 2025-02-04 22:17:14 -0500 (Tue, 04 Feb 2025) EllapsedTime: 11.2 seconds RetCode: 0 Status: OK PackageFile: gDRimport_1.5.6.tgz PackageFileSize: 3.33 MiB