Package: gDRimport Version: 1.5.6 Command: /Library/Frameworks/R.framework/Resources/bin/R CMD build --keep-empty-dirs --no-resave-data gDRimport StartedAt: 2025-02-04 16:23:36 -0500 (Tue, 04 Feb 2025) EndedAt: 2025-02-04 16:23:58 -0500 (Tue, 04 Feb 2025) EllapsedTime: 22.3 seconds RetCode: 0 Status: OK PackageFile: gDRimport_1.5.6.tar.gz PackageFileSize: 3.008 MiB