Package: gDRimport Version: 1.5.6 Command: /Library/Frameworks/R.framework/Resources/bin/R CMD check --install=check:gDRimport.install-out.txt --library=/Library/Frameworks/R.framework/Resources/library --no-vignettes --timings gDRimport_1.5.6.tar.gz StartedAt: 2025-02-04 19:20:59 -0500 (Tue, 04 Feb 2025) EndedAt: 2025-02-04 19:22:06 -0500 (Tue, 04 Feb 2025) EllapsedTime: 67.7 seconds RetCode: 0 Status: OK CheckDir: gDRimport.Rcheck Warnings: 0