Package: gDRimport Version: 1.5.5 Command: /home/biocbuild/R/R/bin/R CMD build --keep-empty-dirs --no-resave-data gDRimport StartedAt: 2025-01-28 23:02:23 -0000 (Tue, 28 Jan 2025) EndedAt: 2025-01-28 23:03:29 -0000 (Tue, 28 Jan 2025) EllapsedTime: 66.0 seconds RetCode: 0 Status: OK PackageFile: gDRimport_1.5.5.tar.gz PackageFileSize: 3.035 MiB