Package: gDRimport Version: 1.5.5 Command: /home/biocbuild/R/R/bin/R CMD INSTALL gDRimport StartedAt: 2025-01-29 20:31:31 -0000 (Wed, 29 Jan 2025) EndedAt: 2025-01-29 20:32:05 -0000 (Wed, 29 Jan 2025) EllapsedTime: 33.4 seconds RetCode: 0 Status: OK