Package: gDRimport Version: 1.5.6 Command: rm -rf gDRimport.buildbin-libdir && mkdir gDRimport.buildbin-libdir && /Users/biocbuild/BBS/utils/build-universal.sh gDRimport_1.5.6.tar.gz /Library/Frameworks/R.framework/Resources/bin/R gDRimport.buildbin-libdir StartedAt: 2025-02-05 00:40:53 -0500 (Wed, 05 Feb 2025) EndedAt: 2025-02-05 00:41:29 -0500 (Wed, 05 Feb 2025) EllapsedTime: 35.9 seconds RetCode: 0 Status: OK PackageFile: gDRimport_1.5.6.tgz PackageFileSize: 3.326 MiB