Package: gDRimport Version: 1.5.6 Command: /Library/Frameworks/R.framework/Resources/bin/R CMD INSTALL gDRimport StartedAt: 2025-02-04 15:40:40 -0500 (Tue, 04 Feb 2025) EndedAt: 2025-02-04 15:41:12 -0500 (Tue, 04 Feb 2025) EllapsedTime: 32.4 seconds RetCode: 0 Status: OK