Package: gDRimport Version: 1.5.6 Command: /home/biocbuild/bbs-3.21-bioc/R/bin/R CMD build --keep-empty-dirs --no-resave-data gDRimport StartedAt: 2025-02-04 17:17:38 -0500 (Tue, 04 Feb 2025) EndedAt: 2025-02-04 17:18:27 -0500 (Tue, 04 Feb 2025) EllapsedTime: 49.0 seconds RetCode: 0 Status: OK PackageFile: gDRimport_1.5.6.tar.gz PackageFileSize: 3.009 MiB