Package: gDRimport Version: 1.5.6 Command: /home/biocbuild/bbs-3.21-bioc/R/bin/R CMD INSTALL gDRimport StartedAt: 2025-02-04 15:35:39 -0500 (Tue, 04 Feb 2025) EndedAt: 2025-02-04 15:36:03 -0500 (Tue, 04 Feb 2025) EllapsedTime: 23.8 seconds RetCode: 0 Status: OK