Package: gDRimport Version: 1.5.6 Command: rm -rf gDRimport.buildbin-libdir && mkdir gDRimport.buildbin-libdir && E:\biocbuild\bbs-3.21-bioc\R\bin\R.exe CMD INSTALL --build --library=gDRimport.buildbin-libdir gDRimport_1.5.6.tar.gz StartedAt: 2025-02-05 07:58:51 -0500 (Wed, 05 Feb 2025) EndedAt: 2025-02-05 08:00:05 -0500 (Wed, 05 Feb 2025) EllapsedTime: 74.0 seconds RetCode: 0 Status: OK PackageFile: gDRimport_1.5.6.zip PackageFileSize: 3.464 MiB