Package: gDRimport Version: 1.5.6 Command: chmod a+r gDRimport -R && E:\biocbuild\bbs-3.21-bioc\R\bin\R.exe CMD build --keep-empty-dirs --no-resave-data gDRimport StartedAt: 2025-02-04 18:52:33 -0500 (Tue, 04 Feb 2025) EndedAt: 2025-02-04 18:53:59 -0500 (Tue, 04 Feb 2025) EllapsedTime: 85.8 seconds RetCode: 0 Status: OK PackageFile: gDRimport_1.5.6.tar.gz PackageFileSize: 3.008 MiB