Package: gDRimport Version: 1.5.6 Command: E:\biocbuild\bbs-3.21-bioc\R\bin\R.exe CMD check --no-multiarch --install=check:gDRimport.install-out.txt --library=E:\biocbuild\bbs-3.21-bioc\R\library --no-vignettes --timings gDRimport_1.5.6.tar.gz StartedAt: 2025-02-05 01:45:07 -0500 (Wed, 05 Feb 2025) EndedAt: 2025-02-05 01:48:54 -0500 (Wed, 05 Feb 2025) EllapsedTime: 226.6 seconds RetCode: 0 Status: OK CheckDir: gDRimport.Rcheck Warnings: 0