Package: gDRimport Version: 1.5.6 Command: E:\biocbuild\bbs-3.21-bioc\R\bin\R.exe CMD INSTALL gDRimport StartedAt: 2025-02-04 16:48:41 -0500 (Tue, 04 Feb 2025) EndedAt: 2025-02-04 16:50:04 -0500 (Tue, 04 Feb 2025) EllapsedTime: 83.3 seconds RetCode: 0 Status: OK