Package: gDRutils Version: 1.5.9 Command: rm -rf gDRutils.buildbin-libdir && mkdir gDRutils.buildbin-libdir && /Users/biocbuild/BBS/utils/build-universal.sh gDRutils_1.5.9.tar.gz /Library/Frameworks/R.framework/Resources/bin/R gDRutils.buildbin-libdir StartedAt: 2025-02-04 22:17:04 -0500 (Tue, 04 Feb 2025) EndedAt: 2025-02-04 22:17:14 -0500 (Tue, 04 Feb 2025) EllapsedTime: 10.2 seconds RetCode: 0 Status: OK PackageFile: gDRutils_1.5.9.tgz PackageFileSize: 641.3 KiB