Package: gDRutils Version: 1.5.6 Command: /home/biocbuild/R/R/bin/R CMD build --keep-empty-dirs --no-resave-data gDRutils StartedAt: 2025-01-28 23:02:42 -0000 (Tue, 28 Jan 2025) EndedAt: 2025-01-28 23:03:27 -0000 (Tue, 28 Jan 2025) EllapsedTime: 45.0 seconds RetCode: 0 Status: OK PackageFile: gDRutils_1.5.6.tar.gz PackageFileSize: 350 KiB