Package: gDRutils Version: 1.5.9 Command: rm -rf gDRutils.buildbin-libdir && mkdir gDRutils.buildbin-libdir && /Users/biocbuild/BBS/utils/build-universal.sh gDRutils_1.5.9.tar.gz /Library/Frameworks/R.framework/Resources/bin/R gDRutils.buildbin-libdir StartedAt: 2025-02-05 00:40:54 -0500 (Wed, 05 Feb 2025) EndedAt: 2025-02-05 00:41:28 -0500 (Wed, 05 Feb 2025) EllapsedTime: 33.6 seconds RetCode: 0 Status: OK PackageFile: gDRutils_1.5.9.tgz PackageFileSize: 633 KiB