Package: gDRutils Version: 1.5.9 Command: /Library/Frameworks/R.framework/Resources/bin/R CMD build --keep-empty-dirs --no-resave-data gDRutils StartedAt: 2025-02-04 16:46:23 -0500 (Tue, 04 Feb 2025) EndedAt: 2025-02-04 16:47:02 -0500 (Tue, 04 Feb 2025) EllapsedTime: 38.9 seconds RetCode: 0 Status: OK PackageFile: gDRutils_1.5.9.tar.gz PackageFileSize: 328.4 KiB