Package: gDRutils Version: 1.5.9 Command: /Library/Frameworks/R.framework/Resources/bin/R CMD check --install=check:gDRutils.install-out.txt --library=/Library/Frameworks/R.framework/Resources/library --no-vignettes --timings gDRutils_1.5.9.tar.gz StartedAt: 2025-02-04 20:37:01 -0500 (Tue, 04 Feb 2025) EndedAt: 2025-02-04 20:41:04 -0500 (Tue, 04 Feb 2025) EllapsedTime: 243.7 seconds RetCode: 0 Status: OK CheckDir: gDRutils.Rcheck Warnings: 0