Package: gDRutils Version: 1.5.9 Command: /Library/Frameworks/R.framework/Resources/bin/R CMD INSTALL gDRutils StartedAt: 2025-02-04 15:33:01 -0500 (Tue, 04 Feb 2025) EndedAt: 2025-02-04 15:33:30 -0500 (Tue, 04 Feb 2025) EllapsedTime: 29.0 seconds RetCode: 0 Status: OK