Package: gDRutils Version: 1.5.9 Command: /home/biocbuild/bbs-3.21-bioc/R/bin/R CMD build --keep-empty-dirs --no-resave-data gDRutils StartedAt: 2025-02-04 17:17:47 -0500 (Tue, 04 Feb 2025) EndedAt: 2025-02-04 17:18:21 -0500 (Tue, 04 Feb 2025) EllapsedTime: 34.0 seconds RetCode: 0 Status: OK PackageFile: gDRutils_1.5.9.tar.gz PackageFileSize: 328.5 KiB