Package: gDRutils Version: 1.5.9 Command: /home/biocbuild/bbs-3.21-bioc/R/bin/R CMD INSTALL gDRutils StartedAt: 2025-02-04 15:35:16 -0500 (Tue, 04 Feb 2025) EndedAt: 2025-02-04 15:35:39 -0500 (Tue, 04 Feb 2025) EllapsedTime: 23.1 seconds RetCode: 0 Status: OK