Package: gDRutils Version: 1.5.9 Command: chmod a+r gDRutils -R && E:\biocbuild\bbs-3.21-bioc\R\bin\R.exe CMD build --keep-empty-dirs --no-resave-data gDRutils StartedAt: 2025-02-04 18:52:43 -0500 (Tue, 04 Feb 2025) EndedAt: 2025-02-04 18:53:45 -0500 (Tue, 04 Feb 2025) EllapsedTime: 61.7 seconds RetCode: 0 Status: OK PackageFile: gDRutils_1.5.9.tar.gz PackageFileSize: 328.6 KiB