Package: gDRutils Version: 1.5.9 Command: E:\biocbuild\bbs-3.21-bioc\R\bin\R.exe CMD INSTALL gDRutils StartedAt: 2025-02-04 16:32:20 -0500 (Tue, 04 Feb 2025) EndedAt: 2025-02-04 16:33:33 -0500 (Tue, 04 Feb 2025) EllapsedTime: 73.7 seconds RetCode: 0 Status: OK