Package: gINTomics Version: 1.3.0 Command: /Library/Frameworks/R.framework/Resources/bin/R CMD build --keep-empty-dirs --no-resave-data gINTomics StartedAt: 2025-02-09 16:28:13 -0500 (Sun, 09 Feb 2025) EndedAt: 2025-02-09 16:29:29 -0500 (Sun, 09 Feb 2025) EllapsedTime: 75.8 seconds RetCode: 0 Status: OK PackageFile: gINTomics_1.3.0.tar.gz PackageFileSize: 3.482 MiB