Package: gINTomics Version: 1.3.0 Command: /Library/Frameworks/R.framework/Resources/bin/R CMD check --install=check:gINTomics.install-out.txt --library=/Library/Frameworks/R.framework/Resources/library --no-vignettes --timings gINTomics_1.3.0.tar.gz StartedAt: 2025-02-09 19:28:32 -0500 (Sun, 09 Feb 2025) EndedAt: 2025-02-09 19:32:15 -0500 (Sun, 09 Feb 2025) EllapsedTime: 223.6 seconds RetCode: 0 Status: OK CheckDir: gINTomics.Rcheck Warnings: 0