Package: gINTomics Version: 1.3.0 Command: /Library/Frameworks/R.framework/Resources/bin/R CMD INSTALL gINTomics StartedAt: 2025-02-09 15:20:39 -0500 (Sun, 09 Feb 2025) EndedAt: 2025-02-09 15:21:12 -0500 (Sun, 09 Feb 2025) EllapsedTime: 33.0 seconds RetCode: 0 Status: OK