Package: gINTomics Version: 1.3.0 Command: /home/biocbuild/bbs-3.21-bioc/R/bin/R CMD build --keep-empty-dirs --no-resave-data gINTomics StartedAt: 2025-02-09 17:26:31 -0500 (Sun, 09 Feb 2025) EndedAt: 2025-02-09 17:29:12 -0500 (Sun, 09 Feb 2025) EllapsedTime: 161.1 seconds RetCode: 0 Status: OK PackageFile: gINTomics_1.3.0.tar.gz PackageFileSize: 3.482 MiB