Package: gINTomics Version: 1.3.0 Command: chmod a+r gINTomics -R && E:\biocbuild\bbs-3.21-bioc\R\bin\R.exe CMD build --keep-empty-dirs --no-resave-data gINTomics StartedAt: 2025-02-09 18:59:50 -0500 (Sun, 09 Feb 2025) EndedAt: 2025-02-09 19:03:31 -0500 (Sun, 09 Feb 2025) EllapsedTime: 220.2 seconds RetCode: 0 Status: OK PackageFile: gINTomics_1.3.0.tar.gz PackageFileSize: 3.482 MiB