Package: gage Version: 2.57.0 Command: rm -rf gage.buildbin-libdir && mkdir gage.buildbin-libdir && /Users/biocbuild/BBS/utils/build-universal.sh gage_2.57.0.tar.gz /Library/Frameworks/R.framework/Resources/bin/R gage.buildbin-libdir StartedAt: 2025-02-03 22:50:46 -0500 (Mon, 03 Feb 2025) EndedAt: 2025-02-03 22:50:54 -0500 (Mon, 03 Feb 2025) EllapsedTime: 7.1 seconds RetCode: 0 Status: OK PackageFile: gage_2.57.0.tgz PackageFileSize: 4.417 MiB