Package: gage Version: 2.57.0 Command: /Library/Frameworks/R.framework/Resources/bin/R CMD build --keep-empty-dirs --no-resave-data gage StartedAt: 2025-02-03 16:59:00 -0500 (Mon, 03 Feb 2025) EndedAt: 2025-02-03 17:00:21 -0500 (Mon, 03 Feb 2025) EllapsedTime: 81.9 seconds RetCode: 0 Status: OK PackageFile: gage_2.57.0.tar.gz PackageFileSize: 4.282 MiB