Package: gage Version: 2.57.0 Command: /Library/Frameworks/R.framework/Resources/bin/R CMD check --install=check:gage.install-out.txt --library=/Library/Frameworks/R.framework/Resources/library --no-vignettes --timings gage_2.57.0.tar.gz StartedAt: 2025-02-09 19:17:21 -0500 (Sun, 09 Feb 2025) EndedAt: 2025-02-09 19:18:12 -0500 (Sun, 09 Feb 2025) EllapsedTime: 51.6 seconds RetCode: 0 Status: WARNINGS CheckDir: gage.Rcheck Warnings: 1