Package: gage Version: 2.57.0 Command: /home/biocbuild/R/R/bin/R CMD build --keep-empty-dirs --no-resave-data gage StartedAt: 2025-01-28 22:59:50 -0000 (Tue, 28 Jan 2025) EndedAt: 2025-01-28 23:02:42 -0000 (Tue, 28 Jan 2025) EllapsedTime: 172.1 seconds RetCode: 0 Status: OK PackageFile: gage_2.57.0.tar.gz PackageFileSize: 4.319 MiB