Package: gage Version: 2.57.0 Command: /home/biocbuild/R/R/bin/R CMD check --install=check:gage.install-out.txt --library=/home/biocbuild/R/R/site-library --no-vignettes --timings gage_2.57.0.tar.gz StartedAt: 2025-01-28 10:44:30 -0000 (Tue, 28 Jan 2025) EndedAt: 2025-01-28 10:46:50 -0000 (Tue, 28 Jan 2025) EllapsedTime: 140.1 seconds RetCode: 0 Status: WARNINGS CheckDir: gage.Rcheck Warnings: 1