Package: gage Version: 2.57.0 Command: /home/biocbuild/R/R/bin/R CMD INSTALL gage StartedAt: 2025-01-29 19:47:37 -0000 (Wed, 29 Jan 2025) EndedAt: 2025-01-29 19:47:56 -0000 (Wed, 29 Jan 2025) EllapsedTime: 18.9 seconds RetCode: 0 Status: OK