Package: gage Version: 2.57.0 Command: /home/biocbuild/bbs-3.21-bioc/R/bin/R CMD build --keep-empty-dirs --no-resave-data gage StartedAt: 2025-02-09 17:18:39 -0500 (Sun, 09 Feb 2025) EndedAt: 2025-02-09 17:21:04 -0500 (Sun, 09 Feb 2025) EllapsedTime: 145.2 seconds RetCode: 0 Status: OK PackageFile: gage_2.57.0.tar.gz PackageFileSize: 4.331 MiB