Package: gage Version: 2.57.0 Command: /home/biocbuild/bbs-3.21-bioc/R/bin/R CMD INSTALL gage StartedAt: 2025-02-03 15:51:06 -0500 (Mon, 03 Feb 2025) EndedAt: 2025-02-03 15:51:20 -0500 (Mon, 03 Feb 2025) EllapsedTime: 14.5 seconds RetCode: 0 Status: OK