Package: gage Version: 2.57.0 Command: rm -rf gage.buildbin-libdir && mkdir gage.buildbin-libdir && E:\biocbuild\bbs-3.21-bioc\R\bin\R.exe CMD INSTALL --build --library=gage.buildbin-libdir gage_2.57.0.tar.gz StartedAt: 2025-02-04 08:00:26 -0500 (Tue, 04 Feb 2025) EndedAt: 2025-02-04 08:00:53 -0500 (Tue, 04 Feb 2025) EllapsedTime: 27.5 seconds RetCode: 0 Status: OK PackageFile: gage_2.57.0.zip PackageFileSize: 4.432 MiB