Package: gage Version: 2.57.0 Command: chmod a+r gage -R && E:\biocbuild\bbs-3.21-bioc\R\bin\R.exe CMD build --keep-empty-dirs --no-resave-data gage StartedAt: 2025-02-03 19:00:07 -0500 (Mon, 03 Feb 2025) EndedAt: 2025-02-03 19:02:58 -0500 (Mon, 03 Feb 2025) EllapsedTime: 170.9 seconds RetCode: 0 Status: OK PackageFile: gage_2.57.0.tar.gz PackageFileSize: 4.298 MiB