Package: gage Version: 2.57.0 Command: E:\biocbuild\bbs-3.21-bioc\R\bin\R.exe CMD check --no-multiarch --install=check:gage.install-out.txt --library=E:\biocbuild\bbs-3.21-bioc\R\library --no-vignettes --timings gage_2.57.0.tar.gz StartedAt: 2025-02-04 01:42:53 -0500 (Tue, 04 Feb 2025) EndedAt: 2025-02-04 01:45:10 -0500 (Tue, 04 Feb 2025) EllapsedTime: 137.7 seconds RetCode: 0 Status: WARNINGS CheckDir: gage.Rcheck Warnings: 1