Package: garfield Version: 1.35.0 Command: rm -rf garfield.buildbin-libdir && mkdir garfield.buildbin-libdir && /Users/biocbuild/BBS/utils/build-universal.sh garfield_1.35.0.tar.gz /Library/Frameworks/R.framework/Resources/bin/R garfield.buildbin-libdir StartedAt: 2025-02-04 22:16:50 -0500 (Tue, 04 Feb 2025) EndedAt: 2025-02-04 22:16:54 -0500 (Tue, 04 Feb 2025) EllapsedTime: 4.1 seconds RetCode: 0 Status: OK PackageFile: garfield_1.35.0.tgz PackageFileSize: 389.1 KiB