Package: garfield Version: 1.35.0 Command: /Library/Frameworks/R.framework/Resources/bin/R CMD check --install=check:garfield.install-out.txt --library=/Library/Frameworks/R.framework/Resources/library --no-vignettes --timings garfield_1.35.0.tar.gz StartedAt: 2025-02-09 19:17:45 -0500 (Sun, 09 Feb 2025) EndedAt: 2025-02-09 19:17:59 -0500 (Sun, 09 Feb 2025) EllapsedTime: 14.2 seconds RetCode: 0 Status: WARNINGS CheckDir: garfield.Rcheck Warnings: 1