Package: garfield Version: 1.35.0 Command: /home/biocbuild/R/R/bin/R CMD build --keep-empty-dirs --no-resave-data garfield StartedAt: 2025-01-28 23:00:16 -0000 (Tue, 28 Jan 2025) EndedAt: 2025-01-28 23:00:33 -0000 (Tue, 28 Jan 2025) EllapsedTime: 17.0 seconds RetCode: 0 Status: OK PackageFile: garfield_1.35.0.tar.gz PackageFileSize: 362.4 KiB