Package: garfield Version: 1.35.0 Command: rm -rf garfield.buildbin-libdir && mkdir garfield.buildbin-libdir && /Users/biocbuild/BBS/utils/build-universal.sh garfield_1.35.0.tar.gz /Library/Frameworks/R.framework/Resources/bin/R garfield.buildbin-libdir StartedAt: 2025-02-05 00:40:42 -0500 (Wed, 05 Feb 2025) EndedAt: 2025-02-05 00:40:59 -0500 (Wed, 05 Feb 2025) EllapsedTime: 16.2 seconds RetCode: 0 Status: OK PackageFile: garfield_1.35.0.tgz PackageFileSize: 391.8 KiB