Package: garfield Version: 1.35.0 Command: /Library/Frameworks/R.framework/Resources/bin/R CMD build --keep-empty-dirs --no-resave-data garfield StartedAt: 2025-02-04 16:45:22 -0500 (Tue, 04 Feb 2025) EndedAt: 2025-02-04 16:45:39 -0500 (Tue, 04 Feb 2025) EllapsedTime: 17.2 seconds RetCode: 0 Status: OK PackageFile: garfield_1.35.0.tar.gz PackageFileSize: 305.2 KiB