Package: garfield Version: 1.35.0 Command: /home/biocbuild/bbs-3.21-bioc/R/bin/R CMD build --keep-empty-dirs --no-resave-data garfield StartedAt: 2025-02-09 17:18:46 -0500 (Sun, 09 Feb 2025) EndedAt: 2025-02-09 17:18:58 -0500 (Sun, 09 Feb 2025) EllapsedTime: 12.0 seconds RetCode: 0 Status: OK PackageFile: garfield_1.35.0.tar.gz PackageFileSize: 305.2 KiB