Package: garfield Version: 1.35.0 Command: /home/biocbuild/bbs-3.21-bioc/R/bin/R CMD check --install=check:garfield.install-out.txt --library=/home/biocbuild/bbs-3.21-bioc/R/site-library --timings garfield_1.35.0.tar.gz StartedAt: 2025-02-09 22:26:30 -0500 (Sun, 09 Feb 2025) EndedAt: 2025-02-09 22:26:52 -0500 (Sun, 09 Feb 2025) EllapsedTime: 22.0 seconds RetCode: 0 Status: WARNINGS CheckDir: garfield.Rcheck Warnings: 1